BEGIN:VCALENDAR
VERSION:2.0
PRODID:-//Essbare Stadt - ECPv6.14.2//NONSGML v1.0//EN
CALSCALE:GREGORIAN
METHOD:PUBLISH
X-ORIGINAL-URL:https://essbare-stadt.de/wp
X-WR-CALDESC:Veranstaltungen für Essbare Stadt
REFRESH-INTERVAL;VALUE=DURATION:PT1H
X-Robots-Tag:noindex
X-PUBLISHED-TTL:PT1H
BEGIN:VTIMEZONE
TZID:UTC
BEGIN:STANDARD
TZOFFSETFROM:+0000
TZOFFSETTO:+0000
TZNAME:UTC
DTSTART:20190101T000000
END:STANDARD
END:VTIMEZONE
BEGIN:VEVENT
DTSTART;TZID=UTC:20191121T091500
DTEND;TZID=UTC:20191121T113000
DTSTAMP:20260425T173144
CREATED:20191108T203911Z
LAST-MODIFIED:20191111T181010Z
UID:3522-1574327700-1574335800@essbare-stadt.de
SUMMARY:StadtFruchtGeNuss-Pflanztag 1 in Waldau
DESCRIPTION:ein Naschgarten für die Kita in Waldau wollen wir heute zusammen mit den Kindern anlegen. Johannisbeeren \, Nüsse etc. werden gepflanzt und wer Lust und Zeit hat\, ist gerne eingeladen\, die das Team der Essbaren Stadt dabei zu unterstützen! \nBitte meldet euch für die Teilnahme an der Pflanzaktion vorab bei Karsten: 0157-39197490
URL:https://essbare-stadt.de/wp/event/stadtfruchtgenuss-pflanztag-1-in-waldau/
END:VEVENT
END:VCALENDAR