BEGIN:VCALENDAR
VERSION:2.0
PRODID:-//Essbare Stadt - ECPv6.14.2//NONSGML v1.0//EN
CALSCALE:GREGORIAN
METHOD:PUBLISH
X-WR-CALNAME:Essbare Stadt
X-ORIGINAL-URL:https://essbare-stadt.de/wp
X-WR-CALDESC:Veranstaltungen für Essbare Stadt
REFRESH-INTERVAL;VALUE=DURATION:PT1H
X-Robots-Tag:noindex
X-PUBLISHED-TTL:PT1H
BEGIN:VTIMEZONE
TZID:UTC
BEGIN:STANDARD
TZOFFSETFROM:+0000
TZOFFSETTO:+0000
TZNAME:UTC
DTSTART:20200101T000000
END:STANDARD
END:VTIMEZONE
BEGIN:VEVENT
DTSTART;TZID=UTC:20200302T180000
DTEND;TZID=UTC:20200302T210000
DTSTAMP:20260421T125257
CREATED:20200205T101527Z
LAST-MODIFIED:20200205T101527Z
UID:3790-1583172000-1583182800@essbare-stadt.de
SUMMARY:KlimaKüche
DESCRIPTION:
URL:https://essbare-stadt.de/wp/event/klimakueche/
LOCATION:Sandershaus\, Sanderhäuser Str. 79\, Kassel\, Hessen\, 34123\, Deutschland
END:VEVENT
END:VCALENDAR