BEGIN:VCALENDAR
VERSION:2.0
PRODID:-//Essbare Stadt - ECPv6.14.2//NONSGML v1.0//EN
CALSCALE:GREGORIAN
METHOD:PUBLISH
X-WR-CALNAME:Essbare Stadt
X-ORIGINAL-URL:https://essbare-stadt.de/wp
X-WR-CALDESC:Veranstaltungen für Essbare Stadt
REFRESH-INTERVAL;VALUE=DURATION:PT1H
X-Robots-Tag:noindex
X-PUBLISHED-TTL:PT1H
BEGIN:VTIMEZONE
TZID:UTC
BEGIN:STANDARD
TZOFFSETFROM:+0000
TZOFFSETTO:+0000
TZNAME:UTC
DTSTART:20200101T000000
END:STANDARD
END:VTIMEZONE
BEGIN:VEVENT
DTSTART;TZID=UTC:20200304T150000
DTEND;TZID=UTC:20200408T150000
DTSTAMP:20260423T124355
CREATED:20200205T094432Z
LAST-MODIFIED:20200330T161625Z
UID:3779-1583334000-1586358000@essbare-stadt.de
SUMMARY:KlimaKOSTmobil Ausstellung
DESCRIPTION:Eröffnung der Projektausstellung\n15:00 Café Agathe\, Agathof Bettenhausen Kassel\n„Die Stadt\, unser Garten“: Mit Fotos\, Plakaten und Objekten wird das Projekt und dessen Entwicklung gezeigt. Die Stationen der Ausstellung spiegeln auch das Konzept der Projekt-Rundgänge wieder und sind teilweise poetisch\, sinn(es)anregend und interaktiv gestaltet.\nDie Teilnahme ist kostenfrei. \nEinzelführungen durch die Ausstellung sind möglich\, zum Verabreden bitte Mail an klimakost(ät)essbare-stadt.de \nFinissage (fällt aus wegen Corona)\, 15:00 Café Agathe\, Agathof Bettenhausen Kassel\nPlakat Ausstellungsmonat KlimaKOST 2020
URL:https://essbare-stadt.de/wp/event/klimakostmobil-ausstellung/
LOCATION:Stadtteilzentrum Agathof Bettenhausen\, Agathofstraße 48\, Kassel\, 34123\, Deutschland
END:VEVENT
BEGIN:VEVENT
DTSTART;TZID=UTC:20200314T140000
DTEND;TZID=UTC:20200314T180000
DTSTAMP:20260423T124355
CREATED:20200312T203512Z
LAST-MODIFIED:20200312T203625Z
UID:3844-1584194400-1584208800@essbare-stadt.de
SUMMARY:Jungpflanzen Ausaat 2te Runde
DESCRIPTION:Hallo ihr Lieben Jungpflanzenfreunde\,\nJetzt am Samstag ab 14 Uhr geht es in die zweite Runde der Ausaat\, nachdem wir schon letztes Wochenende fleißig Tomaten & Co in Einzelkornsaat versorgt haben\, steht diesmal die Breitsaat von Kräutern und Blumen im Mittelpunkt\nWo ? Im Gewächshaus der Außenstelle der Willy-Brandt-Schule\nOberzwehrener Straße 103\nauf dem Gelände der ehemaligen Lehr- und Versuchsanstalt Kassel\,  bzw. bei Googlemaps der Zweckverband Habichtswald.\nhttp://umap.openstreetmap.fr/en/map/docutopia-symbioticsynergysolution_113474#17/51.27991/9.45478\nIch werde den Weg zum Gewächshaus auch mit Kreide oder Schildern markieren und\nhier auch nochmal meine Nummer für eventuelle Rückfragen\n0175-8224572\nmit besten grünen Grußen\nMaximilian
URL:https://essbare-stadt.de/wp/event/jungpflanzen-ausaat-2te-runde/
END:VEVENT
END:VCALENDAR