BEGIN:VCALENDAR
VERSION:2.0
PRODID:-//Essbare Stadt - ECPv6.14.2//NONSGML v1.0//EN
CALSCALE:GREGORIAN
METHOD:PUBLISH
X-ORIGINAL-URL:https://essbare-stadt.de/wp
X-WR-CALDESC:Veranstaltungen für Essbare Stadt
REFRESH-INTERVAL;VALUE=DURATION:PT1H
X-Robots-Tag:noindex
X-PUBLISHED-TTL:PT1H
BEGIN:VTIMEZONE
TZID:UTC
BEGIN:STANDARD
TZOFFSETFROM:+0000
TZOFFSETTO:+0000
TZNAME:UTC
DTSTART:20200101T000000
END:STANDARD
END:VTIMEZONE
BEGIN:VEVENT
DTSTART;TZID=UTC:20200502T090000
DTEND;TZID=UTC:20200502T140000
DTSTAMP:20260423T124437
CREATED:20200430T164702Z
LAST-MODIFIED:20200430T164702Z
UID:4034-1588410000-1588428000@essbare-stadt.de
SUMMARY:immer Samstags: Jungpflanzenverkauf an der Markthalle
DESCRIPTION:Dieses Jahr fallen der Tag der Erde und die Pflanzenbörse im Botanischen Garten aus! \naber es gibt die Markthalle! dort verkauft Max mit dem Team der Essbaren Stadt eine große Palette Jungpflanzen! \nam Samstag ab 9:00 Uhr auf der Freifläche vor der Markthalle: \nverschiedene kräftige Tomaten\, Auberginen und Paprika\, Zucchini und Kürbis sowie eine große Kohl-Vielfalt (Weiß-\, Rot-\, Schwarz-\, Grün-\, Spitz-\, Scher-\, Blumen-\, Butter-kohl\, Broccoli)\, Kohlrabi und Artemisia \nDort gibt es auch das Saatgut für „Blühflächen statt Steinwüsten“! \nMitmachen: wer Lust hat\, beim Verkauf oder im Gewächshaus mitzuhelfen\, meldet sich bei Max: lebensfreuende@gmail.com oder 0175-8224572 \nandere Bio-Jungpflanzen-Möglichkeiten in Kassel: \n\nK&K Stauden: Chilis\, historische Tomatensorten\, Hokkaido-Kürbis\, Zucchini und ein großes Sortiment an Gemüsejungpflanzen\, ihr könnt online bestellen und abholen oder liefern lassen: www.KK-stauden.de\n\nbeim Mila-Laden in der Unterneustadt gibt es Bio-Jungpflanzen (Blücherstraße 1b\, Öffnungszeiten: Di-Mi: 16-18 Uhr\, Sa: 9-12 Uhr ) \n\n\neine kleine Auswahl an Pflanzen verkauft Max an einen Stand bei sich am Hermann-Schafft-Weg (Schloss Wilhelmshöhe) (mit Marmeladenglas-Kasse) \n\n\nP.S.: Saatgut gibt es bei Karibu (kleine Auswahl Essbare-Stadt-Saatgut) und bei Samen-Rohde am Königsplatz!
URL:https://essbare-stadt.de/wp/event/immer-samstags-jungpflanzenverkauf-an-der-markthalle/
LOCATION:Markthalle Kassel\, Wildemannsgasse 1\, Kassel
END:VEVENT
END:VCALENDAR