BEGIN:VCALENDAR
VERSION:2.0
PRODID:-//Essbare Stadt - ECPv6.14.2//NONSGML v1.0//EN
CALSCALE:GREGORIAN
METHOD:PUBLISH
X-WR-CALNAME:Essbare Stadt
X-ORIGINAL-URL:https://essbare-stadt.de/wp
X-WR-CALDESC:Veranstaltungen für Essbare Stadt
REFRESH-INTERVAL;VALUE=DURATION:PT1H
X-Robots-Tag:noindex
X-PUBLISHED-TTL:PT1H
BEGIN:VTIMEZONE
TZID:UTC
BEGIN:STANDARD
TZOFFSETFROM:+0000
TZOFFSETTO:+0000
TZNAME:UTC
DTSTART:20200101T000000
END:STANDARD
END:VTIMEZONE
BEGIN:VEVENT
DTSTART;TZID=UTC:20200302T180000
DTEND;TZID=UTC:20200302T210000
DTSTAMP:20260421T125421
CREATED:20200205T101527Z
LAST-MODIFIED:20200205T101527Z
UID:3790-1583172000-1583182800@essbare-stadt.de
SUMMARY:KlimaKüche
DESCRIPTION:
URL:https://essbare-stadt.de/wp/event/klimakueche/
LOCATION:Sandershaus\, Sanderhäuser Str. 79\, Kassel\, Hessen\, 34123\, Deutschland
END:VEVENT
BEGIN:VEVENT
DTSTART;TZID=UTC:20200304T150000
DTEND;TZID=UTC:20200408T150000
DTSTAMP:20260421T125421
CREATED:20200205T094432Z
LAST-MODIFIED:20200330T161625Z
UID:3779-1583334000-1586358000@essbare-stadt.de
SUMMARY:KlimaKOSTmobil Ausstellung
DESCRIPTION:Eröffnung der Projektausstellung\n15:00 Café Agathe\, Agathof Bettenhausen Kassel\n„Die Stadt\, unser Garten“: Mit Fotos\, Plakaten und Objekten wird das Projekt und dessen Entwicklung gezeigt. Die Stationen der Ausstellung spiegeln auch das Konzept der Projekt-Rundgänge wieder und sind teilweise poetisch\, sinn(es)anregend und interaktiv gestaltet.\nDie Teilnahme ist kostenfrei. \nEinzelführungen durch die Ausstellung sind möglich\, zum Verabreden bitte Mail an klimakost(ät)essbare-stadt.de \nFinissage (fällt aus wegen Corona)\, 15:00 Café Agathe\, Agathof Bettenhausen Kassel\nPlakat Ausstellungsmonat KlimaKOST 2020
URL:https://essbare-stadt.de/wp/event/klimakostmobil-ausstellung/
LOCATION:Stadtteilzentrum Agathof Bettenhausen\, Agathofstraße 48\, Kassel\, 34123\, Deutschland
END:VEVENT
BEGIN:VEVENT
DTSTART;TZID=UTC:20200304T183000
DTEND;TZID=UTC:20200304T210000
DTSTAMP:20260421T125421
CREATED:20191125T154347Z
LAST-MODIFIED:20191125T154521Z
UID:3548-1583346600-1583355600@essbare-stadt.de
SUMMARY:ESSt! Essbare Stadt Stammtisch
DESCRIPTION:Jeden 1. Mittwoch im Monat findet ab 19:00 Uhr unser Stammtisch in der Wandelbar\, (Schönfelder Str. 41a / siehe unten) statt: Austausch\, Ideen\, Abstimmung und Planung der Projekte – Einladung vor allem auch an alle\, die Essbare Stadt kennenlernen möchten\, Fragen oder Ideen haben…. \nAb 18:30 Uhr ist die Wandelbar offen – zum Ankommen\, Tee machen + trinken\, den ersten Austausch. 19:00 Uhr geht´s zusammen in der Runde los und wir beratschlagen uns zu den Projekten\, weiteren Vorhaben und Neuigkeiten!
URL:https://essbare-stadt.de/wp/event/esst-stammtisch-7/
END:VEVENT
BEGIN:VEVENT
DTSTART;TZID=UTC:20200310T120000
DTEND;TZID=UTC:20200310T170000
DTSTAMP:20260421T125421
CREATED:20200310T075324Z
LAST-MODIFIED:20200310T075324Z
UID:3843-1583841600-1583859600@essbare-stadt.de
SUMMARY:Gärtner-Tag im ForstFeldGarten
DESCRIPTION:Jeden Dienstag -heute von 12-17 Uhr- gibt es die Gelegenheit\, im ForstFeldGarten einzusteigen und diesen mitzugestalten. \nWeg zum FFG \nDer Gärtnertag ist ein regelmäßiges Angebot von Karsten Winnemuth  im Rahmen des KlimaKOSTmobil-Projektes.
URL:https://essbare-stadt.de/wp/event/gaertner-tag-im-forstfeldgarten-11/
LOCATION:ForstFeldGarten\, Steinigkstraße 23\, Stadtteil Forstfeld\, 34123 Kassel 
ORGANIZER;CN="Essbare Stadt e.V. / KlimaKOSTmobil":MAILTO:info@essbare-stadt.de
END:VEVENT
BEGIN:VEVENT
DTSTART;TZID=UTC:20200312T150000
DTEND;TZID=UTC:20200312T170000
DTSTAMP:20260421T125421
CREATED:20200205T094820Z
LAST-MODIFIED:20200209T122200Z
UID:3780-1584025200-1584032400@essbare-stadt.de
SUMMARY:KlimaKOSTmobil Projekt-Vernetzungstreffen
DESCRIPTION:Wir laden am 12.03.2020 zu unserem dritten Projekt-Vernetzungstreffen in den Agathof ein. Es gibt eine kurze Präsentation der Ausstellung und Diskussion dazu\, mit kleiner Verköstigung . \nPlakat Ausstellungsmonat KlimaKOST 2020\n 
URL:https://essbare-stadt.de/wp/event/klimakostmobil-projekt-vernetzungstreffen/
LOCATION:Stadtteilzentrum Agathof Bettenhausen\, Agathofstraße 48\, Kassel\, 34123\, Deutschland
END:VEVENT
BEGIN:VEVENT
DTSTART;TZID=UTC:20200313T180000
DTEND;TZID=UTC:20200313T210000
DTSTAMP:20260421T125421
CREATED:20200308T100510Z
LAST-MODIFIED:20200308T100510Z
UID:3837-1584122400-1584133200@essbare-stadt.de
SUMMARY:Schmecktakel - gemeinsam kochen und schmausen
DESCRIPTION:Mitglieder und Freunde des Vereins treffen sich und zaubern saisonale Mahlzeiten. Im Ofen und auf dem Herd\, für´s Glas und natürlich für den gemeinsamen Schmaus. Zeit und Muße zum Ausprobieren \, Zugucken\,  Austausch und Schnack zu Beginn des Wochenendes! \nOffen für alle ! Wer mitkochen oder auch nur mitessen mag\, melde sich doch bitte bei Doris an unter 01523-1766975
URL:https://essbare-stadt.de/wp/event/schmecktakel-gemeinsam-kochen-und-schmausen/
LOCATION:ttWandelbar\, Schönfelder Str. 41a\, Kassel\, 34121
END:VEVENT
BEGIN:VEVENT
DTSTART;TZID=UTC:20200314T140000
DTEND;TZID=UTC:20200314T180000
DTSTAMP:20260421T125421
CREATED:20200312T203512Z
LAST-MODIFIED:20200312T203625Z
UID:3844-1584194400-1584208800@essbare-stadt.de
SUMMARY:Jungpflanzen Ausaat 2te Runde
DESCRIPTION:Hallo ihr Lieben Jungpflanzenfreunde\,\nJetzt am Samstag ab 14 Uhr geht es in die zweite Runde der Ausaat\, nachdem wir schon letztes Wochenende fleißig Tomaten & Co in Einzelkornsaat versorgt haben\, steht diesmal die Breitsaat von Kräutern und Blumen im Mittelpunkt\nWo ? Im Gewächshaus der Außenstelle der Willy-Brandt-Schule\nOberzwehrener Straße 103\nauf dem Gelände der ehemaligen Lehr- und Versuchsanstalt Kassel\,  bzw. bei Googlemaps der Zweckverband Habichtswald.\nhttp://umap.openstreetmap.fr/en/map/docutopia-symbioticsynergysolution_113474#17/51.27991/9.45478\nIch werde den Weg zum Gewächshaus auch mit Kreide oder Schildern markieren und\nhier auch nochmal meine Nummer für eventuelle Rückfragen\n0175-8224572\nmit besten grünen Grußen\nMaximilian
URL:https://essbare-stadt.de/wp/event/jungpflanzen-ausaat-2te-runde/
END:VEVENT
BEGIN:VEVENT
DTSTART;TZID=UTC:20200316T180000
DTEND;TZID=UTC:20200316T210000
DTSTAMP:20260421T125421
CREATED:20200205T101732Z
LAST-MODIFIED:20200316T122420Z
UID:3792-1584381600-1584392400@essbare-stadt.de
SUMMARY:(KlimaKüche) fällt aus wg Corona
DESCRIPTION:
URL:https://essbare-stadt.de/wp/event/klimakueche-2/
LOCATION:Sandershaus\, Sanderhäuser Str. 79\, Kassel\, Hessen\, 34123\, Deutschland
END:VEVENT
BEGIN:VEVENT
DTSTART;TZID=UTC:20200317T110000
DTEND;TZID=UTC:20200317T150000
DTSTAMP:20260421T125421
CREATED:20200316T123043Z
LAST-MODIFIED:20200316T123043Z
UID:3848-1584442800-1584457200@essbare-stadt.de
SUMMARY:Gärtnertag im ForstFeldGarten
DESCRIPTION:Jeden Dienstag -heute von 11-15 Uhr- gibt es die Gelegenheit\, im ForstFeldGarten einzusteigen und diesen mitzugestalten. \nWeg zum FFG \nDer Gärtnertag ist ein regelmäßiges Angebot von Karsten Winnemuth  im Rahmen des KlimaKOSTmobil-Projektes.
URL:https://essbare-stadt.de/wp/event/gaertnertag-im-forstfeldgarten-19/
LOCATION:ForstFeldGarten\, Steinigkstraße 23\, Stadtteil Forstfeld\, 34123 Kassel 
ORGANIZER;CN="Essbare Stadt e.V. / KlimaKOSTmobil":MAILTO:info@essbare-stadt.de
END:VEVENT
BEGIN:VEVENT
DTSTART;TZID=UTC:20200318T173000
DTEND;TZID=UTC:20200318T190000
DTSTAMP:20260421T125421
CREATED:20200205T095828Z
LAST-MODIFIED:20200316T122525Z
UID:3782-1584552600-1584558000@essbare-stadt.de
SUMMARY:(Klima-Kino) fällt aus wg Corona
DESCRIPTION:In der Kino-Reihe von KlimaKOSTmobil zeigen wir im piano e.V. im Forstfeld den Film „Transition 2.0“. \nFlyer KlimaKino Feb-März2020
URL:https://essbare-stadt.de/wp/event/klima-kino-transition-2-0/
END:VEVENT
BEGIN:VEVENT
DTSTART;TZID=UTC:20200323T143000
DTEND;TZID=UTC:20200323T163000
DTSTAMP:20260421T125421
CREATED:20200205T095338Z
LAST-MODIFIED:20200320T081852Z
UID:3781-1584973800-1584981000@essbare-stadt.de
SUMMARY:(KlimaKOSTmobil Stadtteil-Fahrradtour) fällt aus wg. Corona
DESCRIPTION:Im Rahmen der Ausstellung „Die Stadt\, unser Garten“ laden wir zur Stadtteilerkundung Bettenhausen mit dem Fahrrad ein. \nAnmeldungen vorab gern gesehen an: klimakost@essbare-stadt.de \nMehr Infos zur Kulturwoche Bettenhausen: netzwerk-bettenhausen.de/kulturwoche \nPlakat Ausstellungsmonat KlimaKOST 2020\n 
URL:https://essbare-stadt.de/wp/event/klimakostmobil-stadtteil-fahrradtour/
END:VEVENT
BEGIN:VEVENT
DTSTART;TZID=UTC:20200323T180000
DTEND;TZID=UTC:20200323T213000
DTSTAMP:20260421T125421
CREATED:20200205T101224Z
LAST-MODIFIED:20200316T122648Z
UID:3788-1584986400-1584999000@essbare-stadt.de
SUMMARY:(KlimaKüche Kulturwoche) fällt aus wg Corona
DESCRIPTION:Die KlimaKüche findet einmal zusätzlich im Monat statt\, zur  Kulturwoche Bettenhausen.
URL:https://essbare-stadt.de/wp/event/klimakueche-kulturwoche/
LOCATION:Sandershaus\, Sanderhäuser Str. 79\, Kassel\, Hessen\, 34123\, Deutschland
END:VEVENT
BEGIN:VEVENT
DTSTART;TZID=UTC:20200325T110000
DTEND;TZID=UTC:20200325T170000
DTSTAMP:20260421T125421
CREATED:20200318T091232Z
LAST-MODIFIED:20200318T091232Z
UID:3850-1585134000-1585155600@essbare-stadt.de
SUMMARY:Gärtnertag im ForstFeldGarten
DESCRIPTION:Jeden Dienstag  von 11-17 Uhr gibt es die Gelegenheit\, im ForstFeldGarten einzusteigen und diesen mitzugestalten. \nBzgl. der Corona-Krise achten wir beim Gärtnern auf die empfohlenen Vorsichtsmaßnahmen. Der Garten ist groß und es gibt an vielen Ecken etwas zu tun. \nWeg zum FFG \nDer Gärtnertag ist ein regelmäßiges Angebot von Karsten Winnemuth  im Rahmen des KlimaKOSTmobil-Projektes.
URL:https://essbare-stadt.de/wp/event/gaertnertag-im-forstfeldgarten-20/
LOCATION:ForstFeldGarten\, Steinigkstraße 23\, Stadtteil Forstfeld\, 34123 Kassel 
ORGANIZER;CN="Essbare Stadt e.V. / KlimaKOSTmobil":MAILTO:info@essbare-stadt.de
END:VEVENT
BEGIN:VEVENT
DTSTART;TZID=UTC:20200325T184500
DTEND;TZID=UTC:20200325T210000
DTSTAMP:20260421T125421
CREATED:20200117T210214Z
LAST-MODIFIED:20200320T083005Z
UID:3731-1585161900-1585170000@essbare-stadt.de
SUMMARY:(StadtFruchtGeNuss Gruppentreffen) fällt aus wg. Corona
DESCRIPTION:Unsere AG entwickelt seit 2013 das Projekt StadtFruchtGeNuss. \nbei unseren Treffen geht es um den Austausch zum Projekt aber auch zu allen Themen der Pomologie\, Baumschnitt\, Veredelung\,  Baumpflege\, Erfahrungsaustausch etc.. Ganz konkret werden die nächsten Aktionen vorbereitet und verabredet.  Auch das neue Projekt „FruchtKulturerbe“ wird Thema sein.  Interessierte sind stets gerne willkommen!
URL:https://essbare-stadt.de/wp/event/stadtfruchtgenuss-gruppentreffen-2/
LOCATION:ttWandelbar\, Schönfelder Str. 41a\, Kassel\, 34121
END:VEVENT
BEGIN:VEVENT
DTSTART;TZID=UTC:20200331T110000
DTEND;TZID=UTC:20200331T170000
DTSTAMP:20260421T125421
CREATED:20200330T160439Z
LAST-MODIFIED:20200330T161152Z
UID:3879-1585652400-1585674000@essbare-stadt.de
SUMMARY:Gärtnertag im ForstFeldGarten
DESCRIPTION:Jeden Dienstag  von 11-17 Uhr gibt es die Gelegenheit\, im ForstFeldGarten einzusteigen und diesen mitzugestalten. \nBzgl. der Corona-Krise achten wir beim Gärtnern auf die empfohlenen Vorsichtsmaßnahmen.  Der Garten ist groß und es gibt an vielen Ecken etwas zu tun\, es können weitere Beete kultiviert werden. Es ist ein guter Zeitpunkt für neue Teilnehmer zum Einsteigen.  Gartenarbeit und aufblühende Stadtnatur bleibt förderlich für die Gesundheit ! \nWeg zum FFG \nDer Gärtnertag ist ein regelmäßiges Angebot von Karsten Winnemuth  im Rahmen des KlimaKOSTmobil-Projektes.
URL:https://essbare-stadt.de/wp/event/gaertnertag-im-forstfeldgarten-21/
LOCATION:ForstFeldGarten\, Steinigkstraße 23\, Stadtteil Forstfeld\, 34123 Kassel 
ORGANIZER;CN="Essbare Stadt e.V. / KlimaKOSTmobil":MAILTO:info@essbare-stadt.de
END:VEVENT
END:VCALENDAR